BEGIN:VCALENDAR
VERSION:2.0
PRODID:-//Alabama Music Educators Association - ECPv6.15.20//NONSGML v1.0//EN
CALSCALE:GREGORIAN
METHOD:PUBLISH
X-ORIGINAL-URL:https://myamea.org
X-WR-CALDESC:Events for Alabama Music Educators Association
REFRESH-INTERVAL;VALUE=DURATION:PT1H
X-Robots-Tag:noindex
X-PUBLISHED-TTL:PT1H
BEGIN:VTIMEZONE
TZID:America/Chicago
BEGIN:DAYLIGHT
TZOFFSETFROM:-0600
TZOFFSETTO:-0500
TZNAME:CDT
DTSTART:20250309T080000
END:DAYLIGHT
BEGIN:STANDARD
TZOFFSETFROM:-0500
TZOFFSETTO:-0600
TZNAME:CST
DTSTART:20251102T070000
END:STANDARD
BEGIN:DAYLIGHT
TZOFFSETFROM:-0600
TZOFFSETTO:-0500
TZNAME:CDT
DTSTART:20260308T080000
END:DAYLIGHT
BEGIN:STANDARD
TZOFFSETFROM:-0500
TZOFFSETTO:-0600
TZNAME:CST
DTSTART:20261101T070000
END:STANDARD
BEGIN:DAYLIGHT
TZOFFSETFROM:-0600
TZOFFSETTO:-0500
TZNAME:CDT
DTSTART:20270314T080000
END:DAYLIGHT
BEGIN:STANDARD
TZOFFSETFROM:-0500
TZOFFSETTO:-0600
TZNAME:CST
DTSTART:20271107T070000
END:STANDARD
BEGIN:DAYLIGHT
TZOFFSETFROM:-0600
TZOFFSETTO:-0500
TZNAME:CDT
DTSTART:20280312T080000
END:DAYLIGHT
BEGIN:STANDARD
TZOFFSETFROM:-0500
TZOFFSETTO:-0600
TZNAME:CST
DTSTART:20281105T070000
END:STANDARD
BEGIN:DAYLIGHT
TZOFFSETFROM:-0600
TZOFFSETTO:-0500
TZNAME:CDT
DTSTART:20290311T080000
END:DAYLIGHT
BEGIN:STANDARD
TZOFFSETFROM:-0500
TZOFFSETTO:-0600
TZNAME:CST
DTSTART:20291104T070000
END:STANDARD
BEGIN:DAYLIGHT
TZOFFSETFROM:-0600
TZOFFSETTO:-0500
TZNAME:CDT
DTSTART:20300310T080000
END:DAYLIGHT
BEGIN:STANDARD
TZOFFSETFROM:-0500
TZOFFSETTO:-0600
TZNAME:CST
DTSTART:20301103T070000
END:STANDARD
END:VTIMEZONE
BEGIN:VEVENT
DTSTART;VALUE=DATE:20260330
DTEND;VALUE=DATE:20260331
DTSTAMP:20260423T144244
CREATED:20260219T030424Z
LAST-MODIFIED:20260219T030424Z
UID:4006-1774828800-1774915199@myamea.org
SUMMARY:Executive Director Application Deadline
DESCRIPTION:
URL:https://myamea.org/event/executive-director-application-deadline/
END:VEVENT
BEGIN:VEVENT
DTSTART;VALUE=DATE:20260401
DTEND;VALUE=DATE:20260502
DTSTAMP:20260423T144244
CREATED:20260315T222904Z
LAST-MODIFIED:20260331T222546Z
UID:4053-1775001600-1777679999@myamea.org
SUMMARY:AMEA Elections Open
DESCRIPTION:CLICK HERE for details concerning the AMEA Elections!
URL:https://myamea.org/event/amea-elections-open/
END:VEVENT
BEGIN:VEVENT
DTSTART;VALUE=DATE:20260415
DTEND;VALUE=DATE:20260416
DTSTAMP:20260423T144244
CREATED:20250605T174913Z
LAST-MODIFIED:20250615T234907Z
UID:2781-1776211200-1776297599@myamea.org
SUMMARY:Ala Breve Submission Deadline
DESCRIPTION:Submissions for the May/June Ala Breve edition is due by today.  \nCLICK HERE FOR MORE INFORMATION
URL:https://myamea.org/event/ala-breve-submission-deadline-4/
END:VEVENT
BEGIN:VEVENT
DTSTART;VALUE=DATE:20260501
DTEND;VALUE=DATE:20260502
DTSTAMP:20260423T144244
CREATED:20260315T222935Z
LAST-MODIFIED:20260315T222935Z
UID:4055-1777593600-1777679999@myamea.org
SUMMARY:AMEA Elections Closed
DESCRIPTION:
URL:https://myamea.org/event/amea-elections-closed/
END:VEVENT
BEGIN:VEVENT
DTSTART;VALUE=DATE:20260601
DTEND;VALUE=DATE:20260602
DTSTAMP:20260423T144244
CREATED:20260223T233556Z
LAST-MODIFIED:20260223T233556Z
UID:4041-1780272000-1780358399@myamea.org
SUMMARY:Session/Performance Proposal Deadline
DESCRIPTION:Your last day to apply for Session Proposals and Performances for the 2027 AMEA Conference.  \nPerformance Application \nSession Proposal
URL:https://myamea.org/event/session-performance-proposal-deadline/
END:VEVENT
BEGIN:VEVENT
DTSTART;VALUE=DATE:20260618
DTEND;VALUE=DATE:20260619
DTSTAMP:20260423T144244
CREATED:20260219T030552Z
LAST-MODIFIED:20260219T030552Z
UID:4008-1781740800-1781827199@myamea.org
SUMMARY:Executive Director Position Appointment
DESCRIPTION:
URL:https://myamea.org/event/executive-director-position-appointment/
END:VEVENT
BEGIN:VEVENT
DTSTART;TZID=America/Chicago:20260618T100000
DTEND;TZID=America/Chicago:20260618T150000
DTSTAMP:20260423T144244
CREATED:20260129T232111Z
LAST-MODIFIED:20260129T232600Z
UID:3945-1781776800-1781794800@myamea.org
SUMMARY:AMEA Board Meeting
DESCRIPTION:
URL:https://myamea.org/event/3945/
LOCATION:Oak Mountain Middle School\, 5650 Cahaba Valley Road\, Birmingham\, AL\, 35242\, United States
END:VEVENT
BEGIN:VEVENT
DTSTART;VALUE=DATE:20260622
DTEND;VALUE=DATE:20260626
DTSTAMP:20260423T144244
CREATED:20260126T030015Z
LAST-MODIFIED:20260126T030015Z
UID:3937-1782086400-1782431999@myamea.org
SUMMARY:NAfME National Assembly & Hill Day
DESCRIPTION:
URL:https://myamea.org/event/nafme-national-assembly-hill-day/
LOCATION:Washington DC\, United States
END:VEVENT
BEGIN:VEVENT
DTSTART;VALUE=DATE:20260701
DTEND;VALUE=DATE:20260702
DTSTAMP:20260423T144244
CREATED:20260219T030904Z
LAST-MODIFIED:20260219T030904Z
UID:4010-1782864000-1782950399@myamea.org
SUMMARY:Executive Director Position Starting Date
DESCRIPTION:
URL:https://myamea.org/event/executive-director-position-starting-date/
END:VEVENT
BEGIN:VEVENT
DTSTART;VALUE=DATE:20261101
DTEND;VALUE=DATE:20261102
DTSTAMP:20260423T144244
CREATED:20260223T233748Z
LAST-MODIFIED:20260223T233748Z
UID:4043-1793491200-1793577599@myamea.org
SUMMARY:Lobby Group Application Deadline
DESCRIPTION:Your last day to apply for a lobby group performance at the 2027 AMEA Conference. \nApply Here
URL:https://myamea.org/event/lobby-group-application-deadline-2/
END:VEVENT
BEGIN:VEVENT
DTSTART;VALUE=DATE:20270121
DTEND;VALUE=DATE:20270124
DTSTAMP:20260423T144244
CREATED:20240526T235536Z
LAST-MODIFIED:20240526T235536Z
UID:177-1800489600-1800748799@myamea.org
SUMMARY:2027 AMEA Professional Development Conference
DESCRIPTION:
URL:https://myamea.org/event/2027-amea-professional-development-conference/
LOCATION:BJCC\, 2100 Richard Arrington Jr Blvd N\, Birmingham\, AL\, 35203\, United States
END:VEVENT
BEGIN:VEVENT
DTSTART;VALUE=DATE:20280120
DTEND;VALUE=DATE:20280123
DTSTAMP:20260423T144244
CREATED:20250606T144928Z
LAST-MODIFIED:20250606T144928Z
UID:2798-1831939200-1832198399@myamea.org
SUMMARY:2028 AMEA Professional Development Conference
DESCRIPTION:
URL:https://myamea.org/event/2028-amea-professional-development-conference/
LOCATION:BJCC\, 2100 Richard Arrington Jr Blvd N\, Birmingham\, AL\, 35203\, United States
END:VEVENT
BEGIN:VEVENT
DTSTART;VALUE=DATE:20290118
DTEND;VALUE=DATE:20290121
DTSTAMP:20260423T144244
CREATED:20250606T145015Z
LAST-MODIFIED:20250606T145015Z
UID:2800-1863388800-1863647999@myamea.org
SUMMARY:2029 AMEA Professional Development Conference
DESCRIPTION:
URL:https://myamea.org/event/2029-amea-professional-development-conference/
LOCATION:BJCC\, 2100 Richard Arrington Jr Blvd N\, Birmingham\, AL\, 35203\, United States
END:VEVENT
END:VCALENDAR