BEGIN:VCALENDAR
VERSION:2.0
PRODID:-//Alabama Music Educators Association - ECPv6.15.20//NONSGML v1.0//EN
CALSCALE:GREGORIAN
METHOD:PUBLISH
X-WR-CALNAME:Alabama Music Educators Association
X-ORIGINAL-URL:https://myamea.org
X-WR-CALDESC:Events for Alabama Music Educators Association
REFRESH-INTERVAL;VALUE=DURATION:PT1H
X-Robots-Tag:noindex
X-PUBLISHED-TTL:PT1H
BEGIN:VTIMEZONE
TZID:America/Chicago
BEGIN:DAYLIGHT
TZOFFSETFROM:-0600
TZOFFSETTO:-0500
TZNAME:CDT
DTSTART:20230312T080000
END:DAYLIGHT
BEGIN:STANDARD
TZOFFSETFROM:-0500
TZOFFSETTO:-0600
TZNAME:CST
DTSTART:20231105T070000
END:STANDARD
BEGIN:DAYLIGHT
TZOFFSETFROM:-0600
TZOFFSETTO:-0500
TZNAME:CDT
DTSTART:20240310T080000
END:DAYLIGHT
BEGIN:STANDARD
TZOFFSETFROM:-0500
TZOFFSETTO:-0600
TZNAME:CST
DTSTART:20241103T070000
END:STANDARD
BEGIN:DAYLIGHT
TZOFFSETFROM:-0600
TZOFFSETTO:-0500
TZNAME:CDT
DTSTART:20250309T080000
END:DAYLIGHT
BEGIN:STANDARD
TZOFFSETFROM:-0500
TZOFFSETTO:-0600
TZNAME:CST
DTSTART:20251102T070000
END:STANDARD
BEGIN:DAYLIGHT
TZOFFSETFROM:-0600
TZOFFSETTO:-0500
TZNAME:CDT
DTSTART:20260308T080000
END:DAYLIGHT
BEGIN:STANDARD
TZOFFSETFROM:-0500
TZOFFSETTO:-0600
TZNAME:CST
DTSTART:20261101T070000
END:STANDARD
END:VTIMEZONE
BEGIN:VEVENT
DTSTART;VALUE=DATE:20250415
DTEND;VALUE=DATE:20250416
DTSTAMP:20260423T163511
CREATED:20240606T200714Z
LAST-MODIFIED:20250605T174332Z
UID:389-1744675200-1744761599@myamea.org
SUMMARY:Ala Breve Submission Due Date
DESCRIPTION:Submissions for the next Ala Breve edition is due by today. 
URL:https://myamea.org/event/ala-breve-due-date-4/
END:VEVENT
BEGIN:VEVENT
DTSTART;VALUE=DATE:20250130
DTEND;VALUE=DATE:20250131
DTSTAMP:20260423T163511
CREATED:20240606T200648Z
LAST-MODIFIED:20240828T155259Z
UID:387-1738195200-1738281599@myamea.org
SUMMARY:Ala Breve Submission Due Date
DESCRIPTION:Submissions for the next Ala Breve edition is due today. 
URL:https://myamea.org/event/ala-breve-due-date-3/
END:VEVENT
BEGIN:VEVENT
DTSTART;TZID=America/Chicago:20250125T130000
DTEND;TZID=America/Chicago:20250125T150000
DTSTAMP:20260423T163511
CREATED:20240804T214356Z
LAST-MODIFIED:20240809T203804Z
UID:1072-1737810000-1737817200@myamea.org
SUMMARY:Governing Board Meeting
DESCRIPTION:Post conference meeting. 
URL:https://myamea.org/event/governing-board-meeting-2/
LOCATION:BJCC\, 2100 Richard Arrington Jr Blvd N\, Birmingham\, AL\, 35203\, United States
END:VEVENT
BEGIN:VEVENT
DTSTART;VALUE=DATE:20250123
DTEND;VALUE=DATE:20250126
DTSTAMP:20260423T163511
CREATED:20240526T235223Z
LAST-MODIFIED:20240526T235802Z
UID:171-1737590400-1737849599@myamea.org
SUMMARY:2025 AMEA Professional Development Conference
DESCRIPTION:CLICK HERE for more information 
URL:https://myamea.org/event/2025-amea-professional-development-conference/
LOCATION:BJCC\, 2100 Richard Arrington Jr Blvd N\, Birmingham\, AL\, 35203\, United States
END:VEVENT
BEGIN:VEVENT
DTSTART;TZID=America/Chicago:20250122T170000
DTEND;TZID=America/Chicago:20250122T190000
DTSTAMP:20260423T163511
CREATED:20240804T214235Z
LAST-MODIFIED:20240804T214428Z
UID:1070-1737565200-1737572400@myamea.org
SUMMARY:Governing Board Meeting
DESCRIPTION:Pre-Conference meeting for the AMEA Governing Board. 
URL:https://myamea.org/event/governing-board-meeting/
LOCATION:BJCC\, 2100 Richard Arrington Jr Blvd N\, Birmingham\, AL\, 35203\, United States
END:VEVENT
BEGIN:VEVENT
DTSTART;TZID=America/Chicago:20250117T230000
DTEND;TZID=America/Chicago:20250117T235900
DTSTAMP:20260423T163511
CREATED:20241104T084714Z
LAST-MODIFIED:20250117T220350Z
UID:1383-1737154800-1737158340@myamea.org
SUMMARY:Last Day for Pre-Registration Pricing
DESCRIPTION:Starting on January 18th the registration pricing for the 2025 AMEA Conference will increase. CLICK HERE to register today!
URL:https://myamea.org/event/last-day-for-pre-registration-pricing/
END:VEVENT
BEGIN:VEVENT
DTSTART;VALUE=DATE:20241209
DTEND;VALUE=DATE:20241210
DTSTAMP:20260423T163511
CREATED:20241104T144227Z
LAST-MODIFIED:20241104T144227Z
UID:1387-1733702400-1733788799@myamea.org
SUMMARY:Young Composers Competition Registration Deadline
DESCRIPTION:Today is the last day to turn in your submission for the young composers competition. 
URL:https://myamea.org/event/young-composers-competition-registration-deadline/
END:VEVENT
BEGIN:VEVENT
DTSTART;VALUE=DATE:20240915
DTEND;VALUE=DATE:20240916
DTSTAMP:20260423T163511
CREATED:20240606T200609Z
LAST-MODIFIED:20240828T155323Z
UID:385-1726358400-1726444799@myamea.org
SUMMARY:Ala Breve Submission Due Date
DESCRIPTION:Submissions for the next Ala Breve edition is due today. 
URL:https://myamea.org/event/ala-breve-due-date-2/
END:VEVENT
BEGIN:VEVENT
DTSTART;VALUE=DATE:20240908
DTEND;VALUE=DATE:20240909
DTSTAMP:20260423T163511
CREATED:20240804T213857Z
LAST-MODIFIED:20240804T214518Z
UID:1068-1725753600-1725839999@myamea.org
SUMMARY:2024 Southern Division NAfME Meeting
DESCRIPTION:AMEA leaders will attend the 2024 Southern Division meeting in Atlanta\, GA. 
URL:https://myamea.org/event/2024-southern-division-nafme-meeting/
END:VEVENT
BEGIN:VEVENT
DTSTART;TZID=America/Chicago:20240803T100000
DTEND;TZID=America/Chicago:20240803T150000
DTSTAMP:20260423T163511
CREATED:20240606T015803Z
LAST-MODIFIED:20240702T024540Z
UID:339-1722679200-1722697200@myamea.org
SUMMARY:AMEA Board Meeting
DESCRIPTION:
URL:https://myamea.org/event/amea-board-meeting-2/
LOCATION:Thompson High School\, 1921 Warrior Pkwy\, Alabaster\, AL\, 35007\, United States
END:VEVENT
BEGIN:VEVENT
DTSTART;VALUE=DATE:20240715
DTEND;VALUE=DATE:20240716
DTSTAMP:20260423T163511
CREATED:20240606T200536Z
LAST-MODIFIED:20240828T155347Z
UID:383-1721001600-1721087999@myamea.org
SUMMARY:Ala Breve Submission Due Date
DESCRIPTION:Submissions for the next Ala Breve edition is due today. 
URL:https://myamea.org/event/ala-breve-due-date/
END:VEVENT
BEGIN:VEVENT
DTSTART;VALUE=DATE:20240610
DTEND;VALUE=DATE:20240615
DTSTAMP:20260423T163511
CREATED:20240606T200352Z
LAST-MODIFIED:20240606T200352Z
UID:381-1717977600-1718409599@myamea.org
SUMMARY:National Assembly & Hill Day
DESCRIPTION:The AMEA leadership will attend this annual event to advocate for music education in Washington DC. 
URL:https://myamea.org/event/national-assembly-hill-day/
END:VEVENT
BEGIN:VEVENT
DTSTART;TZID=America/Chicago:20240606T100000
DTEND;TZID=America/Chicago:20240606T150000
DTSTAMP:20260423T163511
CREATED:20240526T144003Z
LAST-MODIFIED:20240526T144121Z
UID:22-1717668000-1717686000@myamea.org
SUMMARY:AMEA Board Meeting
DESCRIPTION:Information
URL:https://myamea.org/event/amea-board-meeting/
LOCATION:Oak Mountain Middle School\, 5650 Cahaba Valley Road\, Birmingham\, AL\, 35242\, United States
END:VEVENT
END:VCALENDAR