BEGIN:VCALENDAR
VERSION:2.0
PRODID:-//Alabama Music Educators Association - ECPv6.15.20//NONSGML v1.0//EN
CALSCALE:GREGORIAN
METHOD:PUBLISH
X-WR-CALNAME:Alabama Music Educators Association
X-ORIGINAL-URL:https://myamea.org
X-WR-CALDESC:Events for Alabama Music Educators Association
REFRESH-INTERVAL;VALUE=DURATION:PT1H
X-Robots-Tag:noindex
X-PUBLISHED-TTL:PT1H
BEGIN:VTIMEZONE
TZID:America/Chicago
BEGIN:DAYLIGHT
TZOFFSETFROM:-0600
TZOFFSETTO:-0500
TZNAME:CDT
DTSTART:20250309T080000
END:DAYLIGHT
BEGIN:STANDARD
TZOFFSETFROM:-0500
TZOFFSETTO:-0600
TZNAME:CST
DTSTART:20251102T070000
END:STANDARD
BEGIN:DAYLIGHT
TZOFFSETFROM:-0600
TZOFFSETTO:-0500
TZNAME:CDT
DTSTART:20260308T080000
END:DAYLIGHT
BEGIN:STANDARD
TZOFFSETFROM:-0500
TZOFFSETTO:-0600
TZNAME:CST
DTSTART:20261101T070000
END:STANDARD
BEGIN:DAYLIGHT
TZOFFSETFROM:-0600
TZOFFSETTO:-0500
TZNAME:CDT
DTSTART:20270314T080000
END:DAYLIGHT
BEGIN:STANDARD
TZOFFSETFROM:-0500
TZOFFSETTO:-0600
TZNAME:CST
DTSTART:20271107T070000
END:STANDARD
END:VTIMEZONE
BEGIN:VEVENT
DTSTART;VALUE=DATE:20260601
DTEND;VALUE=DATE:20260602
DTSTAMP:20260423T125625
CREATED:20260223T233556Z
LAST-MODIFIED:20260223T233556Z
UID:4041-1780272000-1780358399@myamea.org
SUMMARY:Session/Performance Proposal Deadline
DESCRIPTION:Your last day to apply for Session Proposals and Performances for the 2027 AMEA Conference.  \nPerformance Application \nSession Proposal
URL:https://myamea.org/event/session-performance-proposal-deadline/
END:VEVENT
BEGIN:VEVENT
DTSTART;VALUE=DATE:20260618
DTEND;VALUE=DATE:20260619
DTSTAMP:20260423T125625
CREATED:20260219T030552Z
LAST-MODIFIED:20260219T030552Z
UID:4008-1781740800-1781827199@myamea.org
SUMMARY:Executive Director Position Appointment
DESCRIPTION:
URL:https://myamea.org/event/executive-director-position-appointment/
END:VEVENT
BEGIN:VEVENT
DTSTART;TZID=America/Chicago:20260618T100000
DTEND;TZID=America/Chicago:20260618T150000
DTSTAMP:20260423T125625
CREATED:20260129T232111Z
LAST-MODIFIED:20260129T232600Z
UID:3945-1781776800-1781794800@myamea.org
SUMMARY:AMEA Board Meeting
DESCRIPTION:
URL:https://myamea.org/event/3945/
LOCATION:Oak Mountain Middle School\, 5650 Cahaba Valley Road\, Birmingham\, AL\, 35242\, United States
END:VEVENT
BEGIN:VEVENT
DTSTART;VALUE=DATE:20260622
DTEND;VALUE=DATE:20260626
DTSTAMP:20260423T125625
CREATED:20260126T030015Z
LAST-MODIFIED:20260126T030015Z
UID:3937-1782086400-1782431999@myamea.org
SUMMARY:NAfME National Assembly & Hill Day
DESCRIPTION:
URL:https://myamea.org/event/nafme-national-assembly-hill-day/
LOCATION:Washington DC\, United States
END:VEVENT
END:VCALENDAR